BEGIN:VCALENDAR
VERSION:2.0
PRODID:spatie/icalendar-generator
BEGIN:VTIMEZONE
TZID:UTC
BEGIN:STANDARD
DTSTART:20250726T231918
TZOFFSETFROM:+0000
TZOFFSETTO:+0000
END:STANDARD
END:VTIMEZONE
BEGIN:VEVENT
UID:69e957764c115
DTSTAMP:20260422T231918Z
SUMMARY:\"Mieter\" Ein Stück von Paco Gámez
DTSTART:20260508T180000Z
DTEND:20260508T180000Z
END:VEVENT
END:VCALENDAR