BEGIN:VCALENDAR
VERSION:2.0
PRODID:spatie/icalendar-generator
BEGIN:VTIMEZONE
TZID:UTC
BEGIN:STANDARD
DTSTART:20250725T123205
TZOFFSETFROM:+0000
TZOFFSETTO:+0000
END:STANDARD
END:VTIMEZONE
BEGIN:VEVENT
UID:69e76e45586a6
DTSTAMP:20260421T123205Z
SUMMARY:Emil und die Detektive (7+)
DTSTART:20260426T140000Z
DTEND:20260426T140000Z
END:VEVENT
END:VCALENDAR