BEGIN:VCALENDAR
VERSION:2.0
PRODID:spatie/icalendar-generator
BEGIN:VTIMEZONE
TZID:UTC
BEGIN:STANDARD
DTSTART:20250725T124820
TZOFFSETFROM:+0000
TZOFFSETTO:+0000
END:STANDARD
END:VTIMEZONE
BEGIN:VEVENT
UID:69e77214a1396
DTSTAMP:20260421T124820Z
SUMMARY:Anissa Loucif - Mach nicht so auf teuer
DTSTART:20260424T180000Z
DTEND:20260424T180000Z
END:VEVENT
END:VCALENDAR