BEGIN:VCALENDAR
VERSION:2.0
PRODID:spatie/icalendar-generator
BEGIN:VTIMEZONE
TZID:UTC
BEGIN:STANDARD
DTSTART:20250725T125510
TZOFFSETFROM:+0000
TZOFFSETTO:+0000
END:STANDARD
END:VTIMEZONE
BEGIN:VEVENT
UID:69e773ae39d48
DTSTAMP:20260421T125510Z
SUMMARY:AUSVERKAUFT! 10. Todestag Hans Reffert: „Die Töne kommen oft dah
 er\, wo der Schmerz ist.“ – Zusatzvorstellung
DTSTART:20260506T173000Z
DTEND:20260506T173000Z
END:VEVENT
END:VCALENDAR