BEGIN:VCALENDAR
VERSION:2.0
PRODID:spatie/icalendar-generator
BEGIN:VTIMEZONE
TZID:UTC
BEGIN:STANDARD
DTSTART:20250725T153648
TZOFFSETFROM:+0000
TZOFFSETTO:+0000
END:STANDARD
END:VTIMEZONE
BEGIN:VEVENT
UID:69e799901abdf
DTSTAMP:20260421T153648Z
SUMMARY:SUPER SCHWARZES MANNHEIM
DTSTART:20260606T200000Z
DTEND:20260606T200000Z
END:VEVENT
END:VCALENDAR