BEGIN:VCALENDAR
VERSION:2.0
PRODID:spatie/icalendar-generator
BEGIN:VTIMEZONE
TZID:UTC
BEGIN:STANDARD
DTSTART:20250725T040311
TZOFFSETFROM:+0000
TZOFFSETTO:+0000
END:STANDARD
END:VTIMEZONE
BEGIN:VEVENT
UID:69e6f6ff3eeda
DTSTAMP:20260421T040311Z
SUMMARY:Nordic Walking Anfängerkurs
DTSTART:20260616T160000Z
DTEND:20260616T170000Z
END:VEVENT
END:VCALENDAR