BEGIN:VCALENDAR
VERSION:2.0
PRODID:spatie/icalendar-generator
BEGIN:VTIMEZONE
TZID:UTC
BEGIN:STANDARD
DTSTART:20250725T021114
TZOFFSETFROM:+0000
TZOFFSETTO:+0000
END:STANDARD
END:VTIMEZONE
BEGIN:VEVENT
UID:69e6dcc21d575
DTSTAMP:20260421T021114Z
SUMMARY:Nordic Walking Anfängerkurs
DTSTART:20260526T160000Z
DTEND:20260526T170000Z
END:VEVENT
END:VCALENDAR