BEGIN:VCALENDAR
VERSION:2.0
PRODID:spatie/icalendar-generator
BEGIN:VTIMEZONE
TZID:UTC
BEGIN:STANDARD
DTSTART:20250725T021104
TZOFFSETFROM:+0000
TZOFFSETTO:+0000
END:STANDARD
END:VTIMEZONE
BEGIN:VEVENT
UID:69e6dcb8ef5e9
DTSTAMP:20260421T021104Z
SUMMARY:Nordic Walking Anfängerkurs
DTSTART:20260519T160000Z
DTEND:20260519T170000Z
END:VEVENT
END:VCALENDAR