BEGIN:VCALENDAR
VERSION:2.0
PRODID:spatie/icalendar-generator
BEGIN:VTIMEZONE
TZID:UTC
BEGIN:STANDARD
DTSTART:20250723T133526
TZOFFSETFROM:+0000
TZOFFSETTO:+0000
END:STANDARD
END:VTIMEZONE
BEGIN:VEVENT
UID:69e4da1ea2af1
DTSTAMP:20260419T133526Z
SUMMARY:Unser exotisches Universum
DTSTART:20260429T130000Z
DTEND:20260429T130000Z
END:VEVENT
END:VCALENDAR