BEGIN:VCALENDAR
VERSION:2.0
PRODID:spatie/icalendar-generator
BEGIN:VTIMEZONE
TZID:UTC
BEGIN:STANDARD
DTSTART:20250723T165552
TZOFFSETFROM:+0000
TZOFFSETTO:+0000
END:STANDARD
END:VTIMEZONE
BEGIN:VEVENT
UID:69e5091811eab
DTSTAMP:20260419T165552Z
SUMMARY:Queen - Heaven
DTSTART:20260425T173000Z
DTEND:20260425T173000Z
END:VEVENT
END:VCALENDAR