BEGIN:VCALENDAR
VERSION:2.0
PRODID:spatie/icalendar-generator
BEGIN:VTIMEZONE
TZID:UTC
BEGIN:STANDARD
DTSTART:20250723T133615
TZOFFSETFROM:+0000
TZOFFSETTO:+0000
END:STANDARD
END:VTIMEZONE
BEGIN:VEVENT
UID:69e4da4f5dcb9
DTSTAMP:20260419T133615Z
SUMMARY:Bruno Banarby - EMPATHIE KICKT
DTSTART:20260523T180000Z
DTEND:20260523T180000Z
END:VEVENT
END:VCALENDAR