BEGIN:VCALENDAR
VERSION:2.0
PRODID:spatie/icalendar-generator
BEGIN:VTIMEZONE
TZID:UTC
BEGIN:STANDARD
DTSTART:20250725T140602
TZOFFSETFROM:+0000
TZOFFSETTO:+0000
END:STANDARD
END:VTIMEZONE
BEGIN:VEVENT
UID:69e7844add0ee
DTSTAMP:20260421T140602Z
SUMMARY:Sascha im Quadrat mit Gast: Christoph Melzer
DTSTART:20260517T170000Z
DTEND:20260517T170000Z
END:VEVENT
END:VCALENDAR