BEGIN:VCALENDAR
VERSION:2.0
PRODID:spatie/icalendar-generator
BEGIN:VTIMEZONE
TZID:UTC
BEGIN:STANDARD
DTSTART:20250727T155126
TZOFFSETFROM:+0000
TZOFFSETTO:+0000
END:STANDARD
END:VTIMEZONE
BEGIN:VEVENT
UID:69ea3ffecd89a
DTSTAMP:20260423T155126Z
SUMMARY:STUDIO: Camie Klein
DTSTART:20260626T080000Z
DTEND:20260626T080000Z
END:VEVENT
END:VCALENDAR