BEGIN:VCALENDAR
VERSION:2.0
PRODID:spatie/icalendar-generator
BEGIN:VTIMEZONE
TZID:UTC
BEGIN:STANDARD
DTSTART:20250727T155050
TZOFFSETFROM:+0000
TZOFFSETTO:+0000
END:STANDARD
END:VTIMEZONE
BEGIN:VEVENT
UID:69ea3fdaa26f9
DTSTAMP:20260423T155050Z
SUMMARY:STUDIO: Camie Klein
DTSTART:20260623T080000Z
DTEND:20260623T080000Z
END:VEVENT
END:VCALENDAR