BEGIN:VCALENDAR
VERSION:2.0
PRODID:spatie/icalendar-generator
BEGIN:VTIMEZONE
TZID:UTC
BEGIN:STANDARD
DTSTART:20250727T170027
TZOFFSETFROM:+0000
TZOFFSETTO:+0000
END:STANDARD
END:VTIMEZONE
BEGIN:VEVENT
UID:69ea502bee0db
DTSTAMP:20260423T170027Z
SUMMARY:STUDIO: Camie Klein
DTSTART:20260618T080000Z
DTEND:20260618T080000Z
END:VEVENT
END:VCALENDAR