BEGIN:VCALENDAR
VERSION:2.0
PRODID:spatie/icalendar-generator
BEGIN:VTIMEZONE
TZID:UTC
BEGIN:STANDARD
DTSTART:20250727T170137
TZOFFSETFROM:+0000
TZOFFSETTO:+0000
END:STANDARD
END:VTIMEZONE
BEGIN:VEVENT
UID:69ea5071cb118
DTSTAMP:20260423T170137Z
SUMMARY:STUDIO: Camie Klein
DTSTART:20260605T080000Z
DTEND:20260605T080000Z
END:VEVENT
END:VCALENDAR