BEGIN:VCALENDAR
VERSION:2.0
PRODID:spatie/icalendar-generator
BEGIN:VTIMEZONE
TZID:UTC
BEGIN:STANDARD
DTSTART:20250727T170029
TZOFFSETFROM:+0000
TZOFFSETTO:+0000
END:STANDARD
END:VTIMEZONE
BEGIN:VEVENT
UID:69ea502d0c95e
DTSTAMP:20260423T170029Z
SUMMARY:STUDIO: Camie Klein
DTSTART:20260604T080000Z
DTEND:20260604T080000Z
END:VEVENT
END:VCALENDAR