BEGIN:VCALENDAR
VERSION:2.0
PRODID:spatie/icalendar-generator
BEGIN:VTIMEZONE
TZID:UTC
BEGIN:STANDARD
DTSTART:20250727T181524
TZOFFSETFROM:+0000
TZOFFSETTO:+0000
END:STANDARD
END:VTIMEZONE
BEGIN:VEVENT
UID:69ea61bca95a0
DTSTAMP:20260423T181524Z
SUMMARY:Schamanen Sibiriens - Zwischen den Welten
DTSTART:20261215T090000Z
DTEND:20261215T090000Z
END:VEVENT
END:VCALENDAR