BEGIN:VCALENDAR
VERSION:2.0
PRODID:spatie/icalendar-generator
BEGIN:VTIMEZONE
TZID:UTC
BEGIN:STANDARD
DTSTART:20250727T194739
TZOFFSETFROM:+0000
TZOFFSETTO:+0000
END:STANDARD
END:VTIMEZONE
BEGIN:VEVENT
UID:69ea775bcb5aa
DTSTAMP:20260423T194739Z
SUMMARY:Schamanen Sibiriens - Zwischen den Welten
DTSTART:20261127T090000Z
DTEND:20261127T090000Z
END:VEVENT
END:VCALENDAR