BEGIN:VCALENDAR
VERSION:2.0
PRODID:spatie/icalendar-generator
BEGIN:VTIMEZONE
TZID:UTC
BEGIN:STANDARD
DTSTART:20250727T205332
TZOFFSETFROM:+0000
TZOFFSETTO:+0000
END:STANDARD
END:VTIMEZONE
BEGIN:VEVENT
UID:69ea86cc6f34a
DTSTAMP:20260423T205332Z
SUMMARY:Schamanen Sibiriens - Zwischen den Welten
DTSTART:20261112T090000Z
DTEND:20261112T090000Z
END:VEVENT
END:VCALENDAR