BEGIN:VCALENDAR
VERSION:2.0
PRODID:spatie/icalendar-generator
BEGIN:VTIMEZONE
TZID:UTC
BEGIN:STANDARD
DTSTART:20250727T210216
TZOFFSETFROM:+0000
TZOFFSETTO:+0000
END:STANDARD
END:VTIMEZONE
BEGIN:VEVENT
UID:69ea88d8b3053
DTSTAMP:20260423T210216Z
SUMMARY:Schamanen Sibiriens - Zwischen den Welten
DTSTART:20261023T080000Z
DTEND:20261023T080000Z
END:VEVENT
END:VCALENDAR