BEGIN:VCALENDAR
VERSION:2.0
PRODID:spatie/icalendar-generator
BEGIN:VTIMEZONE
TZID:UTC
BEGIN:STANDARD
DTSTART:20250727T223600
TZOFFSETFROM:+0000
TZOFFSETTO:+0000
END:STANDARD
END:VTIMEZONE
BEGIN:VEVENT
UID:69ea9ed0de0ec
DTSTAMP:20260423T223600Z
SUMMARY:Schamanen Sibiriens - Zwischen den Welten
DTSTART:20261017T080000Z
DTEND:20261017T080000Z
END:VEVENT
END:VCALENDAR