BEGIN:VCALENDAR
VERSION:2.0
PRODID:spatie/icalendar-generator
BEGIN:VTIMEZONE
TZID:UTC
BEGIN:STANDARD
DTSTART:20250728T225848
TZOFFSETFROM:+0000
TZOFFSETTO:+0000
END:STANDARD
END:VTIMEZONE
BEGIN:VEVENT
UID:69ebf5a87af2e
DTSTAMP:20260424T225848Z
SUMMARY:Schamanen Sibiriens - Zwischen den Welten
DTSTART:20260923T080000Z
DTEND:20260923T080000Z
END:VEVENT
END:VCALENDAR