BEGIN:VCALENDAR
VERSION:2.0
PRODID:spatie/icalendar-generator
BEGIN:VTIMEZONE
TZID:UTC
BEGIN:STANDARD
DTSTART:20250728T225919
TZOFFSETFROM:+0000
TZOFFSETTO:+0000
END:STANDARD
END:VTIMEZONE
BEGIN:VEVENT
UID:69ebf5c786e77
DTSTAMP:20260424T225919Z
SUMMARY:La vie moderne – Grafiken von Manet bis Picasso
DTSTART:20260711T080000Z
DTEND:20260711T080000Z
END:VEVENT
END:VCALENDAR