BEGIN:VCALENDAR
VERSION:2.0
PRODID:spatie/icalendar-generator
BEGIN:VTIMEZONE
TZID:UTC
BEGIN:STANDARD
DTSTART:20250729T003540
TZOFFSETFROM:+0000
TZOFFSETTO:+0000
END:STANDARD
END:VTIMEZONE
BEGIN:VEVENT
UID:69ec0c5c5fefb
DTSTAMP:20260425T003540Z
SUMMARY:La vie moderne – Grafiken von Manet bis Picasso
DTSTART:20260708T080000Z
DTEND:20260708T080000Z
END:VEVENT
END:VCALENDAR