BEGIN:VCALENDAR
VERSION:2.0
PRODID:spatie/icalendar-generator
BEGIN:VTIMEZONE
TZID:UTC
BEGIN:STANDARD
DTSTART:20250729T003633
TZOFFSETFROM:+0000
TZOFFSETTO:+0000
END:STANDARD
END:VTIMEZONE
BEGIN:VEVENT
UID:69ec0c914d1b7
DTSTAMP:20260425T003633Z
SUMMARY:MusikWelten
DTSTART:20261219T090000Z
DTEND:20261219T090000Z
END:VEVENT
END:VCALENDAR