BEGIN:VCALENDAR
VERSION:2.0
PRODID:spatie/icalendar-generator
BEGIN:VTIMEZONE
TZID:UTC
BEGIN:STANDARD
DTSTART:20250729T014608
TZOFFSETFROM:+0000
TZOFFSETTO:+0000
END:STANDARD
END:VTIMEZONE
BEGIN:VEVENT
UID:69ec1ce0087eb
DTSTAMP:20260425T014608Z
SUMMARY:MusikWelten
DTSTART:20261206T090000Z
DTEND:20261206T090000Z
END:VEVENT
END:VCALENDAR