BEGIN:VCALENDAR
VERSION:2.0
PRODID:spatie/icalendar-generator
BEGIN:VTIMEZONE
TZID:UTC
BEGIN:STANDARD
DTSTART:20250729T015515
TZOFFSETFROM:+0000
TZOFFSETTO:+0000
END:STANDARD
END:VTIMEZONE
BEGIN:VEVENT
UID:69ec1f03b7d71
DTSTAMP:20260425T015515Z
SUMMARY:MusikWelten
DTSTART:20261204T090000Z
DTEND:20261204T090000Z
END:VEVENT
END:VCALENDAR