BEGIN:VCALENDAR
VERSION:2.0
PRODID:spatie/icalendar-generator
BEGIN:VTIMEZONE
TZID:UTC
BEGIN:STANDARD
DTSTART:20250729T014639
TZOFFSETFROM:+0000
TZOFFSETTO:+0000
END:STANDARD
END:VTIMEZONE
BEGIN:VEVENT
UID:69ec1cff5bb83
DTSTAMP:20260425T014639Z
SUMMARY:MusikWelten
DTSTART:20261120T090000Z
DTEND:20261120T090000Z
END:VEVENT
END:VCALENDAR