BEGIN:VCALENDAR
VERSION:2.0
PRODID:spatie/icalendar-generator
BEGIN:VTIMEZONE
TZID:UTC
BEGIN:STANDARD
DTSTART:20250729T015400
TZOFFSETFROM:+0000
TZOFFSETTO:+0000
END:STANDARD
END:VTIMEZONE
BEGIN:VEVENT
UID:69ec1eb8a0ade
DTSTAMP:20260425T015400Z
SUMMARY:MusikWelten
DTSTART:20261119T090000Z
DTEND:20261119T090000Z
END:VEVENT
END:VCALENDAR