BEGIN:VCALENDAR
VERSION:2.0
PRODID:spatie/icalendar-generator
BEGIN:VTIMEZONE
TZID:UTC
BEGIN:STANDARD
DTSTART:20250729T031651
TZOFFSETFROM:+0000
TZOFFSETTO:+0000
END:STANDARD
END:VTIMEZONE
BEGIN:VEVENT
UID:69ec3223c59a4
DTSTAMP:20260425T031651Z
SUMMARY:MusikWelten
DTSTART:20261107T090000Z
DTEND:20261107T090000Z
END:VEVENT
END:VCALENDAR