BEGIN:VCALENDAR
VERSION:2.0
PRODID:spatie/icalendar-generator
BEGIN:VTIMEZONE
TZID:UTC
BEGIN:STANDARD
DTSTART:20250729T031649
TZOFFSETFROM:+0000
TZOFFSETTO:+0000
END:STANDARD
END:VTIMEZONE
BEGIN:VEVENT
UID:69ec3221c1d02
DTSTAMP:20260425T031649Z
SUMMARY:MusikWelten
DTSTART:20261030T090000Z
DTEND:20261030T090000Z
END:VEVENT
END:VCALENDAR