BEGIN:VCALENDAR
VERSION:2.0
PRODID:spatie/icalendar-generator
BEGIN:VTIMEZONE
TZID:UTC
BEGIN:STANDARD
DTSTART:20250729T103530
TZOFFSETFROM:+0000
TZOFFSETTO:+0000
END:STANDARD
END:VTIMEZONE
BEGIN:VEVENT
UID:69ec98f26f756
DTSTAMP:20260425T103530Z
SUMMARY:MusikWelten
DTSTART:20260811T080000Z
DTEND:20260811T080000Z
END:VEVENT
END:VCALENDAR