BEGIN:VCALENDAR
VERSION:2.0
PRODID:spatie/icalendar-generator
BEGIN:VTIMEZONE
TZID:UTC
BEGIN:STANDARD
DTSTART:20250729T121244
TZOFFSETFROM:+0000
TZOFFSETTO:+0000
END:STANDARD
END:VTIMEZONE
BEGIN:VEVENT
UID:69ecafbc6838a
DTSTAMP:20260425T121244Z
SUMMARY:Versunkene Geschichte - Archäologie an Rhein und Neckar
DTSTART:20261208T090000Z
DTEND:20261208T090000Z
END:VEVENT
END:VCALENDAR