BEGIN:VCALENDAR
VERSION:2.0
PRODID:spatie/icalendar-generator
BEGIN:VTIMEZONE
TZID:UTC
BEGIN:STANDARD
DTSTART:20250729T123543
TZOFFSETFROM:+0000
TZOFFSETTO:+0000
END:STANDARD
END:VTIMEZONE
BEGIN:VEVENT
UID:69ecb51f126b4
DTSTAMP:20260425T123543Z
SUMMARY:Versunkene Geschichte - Archäologie an Rhein und Neckar
DTSTART:20261120T090000Z
DTEND:20261120T090000Z
END:VEVENT
END:VCALENDAR