BEGIN:VCALENDAR
VERSION:2.0
PRODID:spatie/icalendar-generator
BEGIN:VTIMEZONE
TZID:UTC
BEGIN:STANDARD
DTSTART:20250729T135711
TZOFFSETFROM:+0000
TZOFFSETTO:+0000
END:STANDARD
END:VTIMEZONE
BEGIN:VEVENT
UID:69ecc837a5792
DTSTAMP:20260425T135711Z
SUMMARY:Versunkene Geschichte - Archäologie an Rhein und Neckar
DTSTART:20261113T090000Z
DTEND:20261113T090000Z
END:VEVENT
END:VCALENDAR