BEGIN:VCALENDAR
VERSION:2.0
PRODID:spatie/icalendar-generator
BEGIN:VTIMEZONE
TZID:UTC
BEGIN:STANDARD
DTSTART:20250729T151629
TZOFFSETFROM:+0000
TZOFFSETTO:+0000
END:STANDARD
END:VTIMEZONE
BEGIN:VEVENT
UID:69ecdacd3f477
DTSTAMP:20260425T151629Z
SUMMARY:Versunkene Geschichte - Archäologie an Rhein und Neckar
DTSTART:20261023T080000Z
DTEND:20261023T080000Z
END:VEVENT
END:VCALENDAR