BEGIN:VCALENDAR
VERSION:2.0
PRODID:spatie/icalendar-generator
BEGIN:VTIMEZONE
TZID:UTC
BEGIN:STANDARD
DTSTART:20250729T174129
TZOFFSETFROM:+0000
TZOFFSETTO:+0000
END:STANDARD
END:VTIMEZONE
BEGIN:VEVENT
UID:69ecfcc996dc1
DTSTAMP:20260425T174129Z
SUMMARY:Versunkene Geschichte - Archäologie an Rhein und Neckar
DTSTART:20260911T080000Z
DTEND:20260911T080000Z
END:VEVENT
END:VCALENDAR