BEGIN:VCALENDAR
VERSION:2.0
PRODID:spatie/icalendar-generator
BEGIN:VTIMEZONE
TZID:UTC
BEGIN:STANDARD
DTSTART:20250729T191142
TZOFFSETFROM:+0000
TZOFFSETTO:+0000
END:STANDARD
END:VTIMEZONE
BEGIN:VEVENT
UID:69ed11ee0f040
DTSTAMP:20260425T191142Z
SUMMARY:Versunkene Geschichte - Archäologie an Rhein und Neckar
DTSTART:20260902T080000Z
DTEND:20260902T080000Z
END:VEVENT
END:VCALENDAR