BEGIN:VCALENDAR
VERSION:2.0
PRODID:spatie/icalendar-generator
BEGIN:VTIMEZONE
TZID:UTC
BEGIN:STANDARD
DTSTART:20250729T191207
TZOFFSETFROM:+0000
TZOFFSETTO:+0000
END:STANDARD
END:VTIMEZONE
BEGIN:VEVENT
UID:69ed12079f0c9
DTSTAMP:20260425T191207Z
SUMMARY:Ägypten - Land der Unsterblichkeit
DTSTART:20261216T090000Z
DTEND:20261216T090000Z
END:VEVENT
END:VCALENDAR