BEGIN:VCALENDAR
VERSION:2.0
PRODID:spatie/icalendar-generator
BEGIN:VTIMEZONE
TZID:UTC
BEGIN:STANDARD
DTSTART:20250729T205737
TZOFFSETFROM:+0000
TZOFFSETTO:+0000
END:STANDARD
END:VTIMEZONE
BEGIN:VEVENT
UID:69ed2ac13773d
DTSTAMP:20260425T205737Z
SUMMARY:Ägypten - Land der Unsterblichkeit
DTSTART:20261201T090000Z
DTEND:20261201T090000Z
END:VEVENT
END:VCALENDAR