BEGIN:VCALENDAR
VERSION:2.0
PRODID:spatie/icalendar-generator
BEGIN:VTIMEZONE
TZID:UTC
BEGIN:STANDARD
DTSTART:20250729T221603
TZOFFSETFROM:+0000
TZOFFSETTO:+0000
END:STANDARD
END:VTIMEZONE
BEGIN:VEVENT
UID:69ed3d23a26ea
DTSTAMP:20260425T221603Z
SUMMARY:Ägypten - Land der Unsterblichkeit
DTSTART:20261113T090000Z
DTEND:20261113T090000Z
END:VEVENT
END:VCALENDAR