BEGIN:VCALENDAR
VERSION:2.0
PRODID:spatie/icalendar-generator
BEGIN:VTIMEZONE
TZID:UTC
BEGIN:STANDARD
DTSTART:20250729T223532
TZOFFSETFROM:+0000
TZOFFSETTO:+0000
END:STANDARD
END:VTIMEZONE
BEGIN:VEVENT
UID:69ed41b4d4e1a
DTSTAMP:20260425T223532Z
SUMMARY:Ägypten - Land der Unsterblichkeit
DTSTART:20261107T090000Z
DTEND:20261107T090000Z
END:VEVENT
END:VCALENDAR