BEGIN:VCALENDAR
VERSION:2.0
PRODID:spatie/icalendar-generator
BEGIN:VTIMEZONE
TZID:UTC
BEGIN:STANDARD
DTSTART:20250729T235732
TZOFFSETFROM:+0000
TZOFFSETTO:+0000
END:STANDARD
END:VTIMEZONE
BEGIN:VEVENT
UID:69ed54ec7d2a3
DTSTAMP:20260425T235732Z
SUMMARY:Ägypten - Land der Unsterblichkeit
DTSTART:20261028T090000Z
DTEND:20261028T090000Z
END:VEVENT
END:VCALENDAR