BEGIN:VCALENDAR
VERSION:2.0
PRODID:spatie/icalendar-generator
BEGIN:VTIMEZONE
TZID:UTC
BEGIN:STANDARD
DTSTART:20250730T001252
TZOFFSETFROM:+0000
TZOFFSETTO:+0000
END:STANDARD
END:VTIMEZONE
BEGIN:VEVENT
UID:69ed5884c8f2c
DTSTAMP:20260426T001252Z
SUMMARY:Ägypten - Land der Unsterblichkeit
DTSTART:20261025T090000Z
DTEND:20261025T090000Z
END:VEVENT
END:VCALENDAR