BEGIN:VCALENDAR
VERSION:2.0
PRODID:spatie/icalendar-generator
BEGIN:VTIMEZONE
TZID:UTC
BEGIN:STANDARD
DTSTART:20250729T235830
TZOFFSETFROM:+0000
TZOFFSETTO:+0000
END:STANDARD
END:VTIMEZONE
BEGIN:VEVENT
UID:69ed5526123b6
DTSTAMP:20260425T235830Z
SUMMARY:Ägypten - Land der Unsterblichkeit
DTSTART:20261022T080000Z
DTEND:20261022T080000Z
END:VEVENT
END:VCALENDAR