BEGIN:VCALENDAR
VERSION:2.0
PRODID:spatie/icalendar-generator
BEGIN:VTIMEZONE
TZID:UTC
BEGIN:STANDARD
DTSTART:20250730T001523
TZOFFSETFROM:+0000
TZOFFSETTO:+0000
END:STANDARD
END:VTIMEZONE
BEGIN:VEVENT
UID:69ed591b40004
DTSTAMP:20260426T001523Z
SUMMARY:Ägypten - Land der Unsterblichkeit
DTSTART:20261010T080000Z
DTEND:20261010T080000Z
END:VEVENT
END:VCALENDAR