BEGIN:VCALENDAR
VERSION:2.0
PRODID:spatie/icalendar-generator
BEGIN:VTIMEZONE
TZID:UTC
BEGIN:STANDARD
DTSTART:20250727T234347
TZOFFSETFROM:+0000
TZOFFSETTO:+0000
END:STANDARD
END:VTIMEZONE
BEGIN:VEVENT
UID:69eaaeb3b4699
DTSTAMP:20260423T234347Z
SUMMARY:Ägypten - Land der Unsterblichkeit
DTSTART:20260913T080000Z
DTEND:20260913T080000Z
END:VEVENT
END:VCALENDAR