BEGIN:VCALENDAR
VERSION:2.0
PRODID:spatie/icalendar-generator
BEGIN:VTIMEZONE
TZID:UTC
BEGIN:STANDARD
DTSTART:20250728T010812
TZOFFSETFROM:+0000
TZOFFSETTO:+0000
END:STANDARD
END:VTIMEZONE
BEGIN:VEVENT
UID:69eac27c6bbc8
DTSTAMP:20260424T010812Z
SUMMARY:Ägypten - Land der Unsterblichkeit
DTSTART:20260903T080000Z
DTEND:20260903T080000Z
END:VEVENT
END:VCALENDAR