BEGIN:VCALENDAR
VERSION:2.0
PRODID:spatie/icalendar-generator
BEGIN:VTIMEZONE
TZID:UTC
BEGIN:STANDARD
DTSTART:20250728T011702
TZOFFSETFROM:+0000
TZOFFSETTO:+0000
END:STANDARD
END:VTIMEZONE
BEGIN:VEVENT
UID:69eac48e40c34
DTSTAMP:20260424T011702Z
SUMMARY:Offener Smartphone-Treff in der Zentralbibliothek
DTSTART:20261001T080000Z
DTEND:20261001T093000Z
END:VEVENT
END:VCALENDAR